BEGIN:VCALENDAR
VERSION:2.0
PRODID:-//TYPO3/NONSGML Calendarize//EN
BEGIN:VEVENT
UID:calendarize-schreibwerkstatt-07-26-2026-07-06
DTSTAMP:20260420T151633Z
DTSTART:20260706T070000Z
DTEND:20260708T150000Z
SUMMARY:Writing Retreat for PhD students
DESCRIPTION:A few days away from your usual workplace to focus calmly and 
 productively on your own writing — that’s the idea behind the writing 
 retreat. Together\, we create a structured writing environment with dedica
 ted writing sessions and optional mini-workshops (e.g.\, “How can I get 
 into writing more quickly?”\, “How do I structure an introduction?”\
 , “How can I stay productive throughout the day?”)\, led by the experi
 enced writing coach Dr. Martina Michalikova. Short yoga sessions support a
 ctive recovery and help you stay energized and motivated to work on your t
 ext throughout the day.\nIf desired\, the writing coach also offers indivi
 dual 25-minute one-on-one sessions\, which may include targeted feedback o
 n your text.\nRegister now!
X-ALT-DESC;FMTTYPE=text/html:<p>A few days away from your usual workplace 
 to focus calmly and productively on your own writing — that’s the idea
  behind the writing retreat. Together\, we create a structured writing env
 ironment with dedicated writing sessions and optional mini-workshops (e.g.
 \, “How can I get into writing more quickly?”\, “How do I structure 
 an introduction?”\, “How can I stay productive throughout the day?”)
 \, led by the experienced writing coach Dr. Martina Michalikova. Short yog
 a sessions support active recovery and help you stay energized and motivat
 ed to work on your text throughout the day.</p>\n<p>If desired\, the writi
 ng coach also offers individual 25-minute one-on-one sessions\, which may 
 include targeted feedback on your text.</p>\n<p><a class="external-link-ne
 w-window" href="https://eveeno.com/writingretreat-07-2026" target="_blank"
 >Register now!</a></p>
LOCATION:Potsdam University of Applied Sciences
END:VEVENT
END:VCALENDAR
