BEGIN:VCALENDAR
VERSION:2.0
PRODID:-//TYPO3/NONSGML Calendarize//EN
BEGIN:VEVENT
UID:calendarize-schreibwerkstatt-11-26-2026-11-09
DTSTAMP:20260420T152120Z
DTSTART:20261109T080000Z
DTEND:20261111T160000Z
SUMMARY:Writing Retreat for PhD students
DESCRIPTION:A few days away from your usual workplace to focus calmly and 
 productively on your own writing — that’s the idea behind the writing 
 retreat. Together\, we create a structured writing environment with dedica
 ted writing sessions and optional mini-workshops (e.g.\, “How can I get 
 into writing more quickly?”\, “How do I structure an introduction?”\
 , “How can I stay productive throughout the day?”)\, led by the experi
 enced writing coach Dr. Martina Michalikova. Short yoga sessions support a
 ctive recovery and help you stay energized and motivated to work on your t
 ext throughout the day.\nIf desired\, the writing coach also offers indivi
 dual 25-minute one-on-one sessions\, which may include targeted feedback o
 n your text.\nRegistration will open soon.
X-ALT-DESC;FMTTYPE=text/html:<p>A few days away from your usual workplace 
 to focus calmly and productively on your own writing — that’s the idea
  behind the writing retreat. Together\, we create a structured writing env
 ironment with dedicated writing sessions and optional mini-workshops (e.g.
 \, “How can I get into writing more quickly?”\, “How do I structure 
 an introduction?”\, “How can I stay productive throughout the day?”)
 \, led by the experienced writing coach Dr. Martina Michalikova. Short yog
 a sessions support active recovery and help you stay energized and motivat
 ed to work on your text throughout the day.</p>\n<p>If desired\, the writi
 ng coach also offers individual 25-minute one-on-one sessions\, which may 
 include targeted feedback on your text.</p>\n<p>Registration will open soo
 n.</p>
LOCATION:TH Wildau
END:VEVENT
END:VCALENDAR
