BEGIN:VCALENDAR
VERSION:2.0
PRODID:-//TYPO3/NONSGML Calendarize//EN
BEGIN:VEVENT
UID:calendarize-nachhaltigkeit-neu-gedacht-strategisch-in-die-zukunft-2026
 -05-06
DTSTAMP:20260421T102729Z
DTSTART:20260506T160000Z
DTEND:20260506T164500Z
SUMMARY:Nachhaltigkeit neu gedacht: strategisch in die Zukunft
DESCRIPTION:In einem 20-minütigen Impulsvortrag regt Dr. Anke Strauß daz
 u an\, Nachhaltigkeitsmanagement als konkrete Zukunftsgestaltung anzugehen
  und strategisch mit der Methode der Zukunftsbilder (Szenarien) zu arbeite
 n. Sie zeigt einen Weg auf\, wie Menschen und Organisationen in Zeiten der
  Unsicherheit wirksam werden können.\nAnmeldung bitte per Mail an: nachha
 ltigkeitsmanagement@hnee.de  
X-ALT-DESC;FMTTYPE=text/html:<p>In einem 20-minütigen Impulsvortrag regt 
 Dr. Anke Strauß dazu an\, Nachhaltigkeitsmanagement als konkrete Zukunfts
 gestaltung anzugehen und strategisch mit der Methode der Zukunftsbilder (S
 zenarien) zu arbeiten. Sie zeigt einen Weg auf\, wie Menschen und Organisa
 tionen in Zeiten der Unsicherheit wirksam werden können.</p>\n<p>Anmeldun
 g bitte per Mail an: <a href="mailto:nachhaltigkeitsmanagement@hnee.de">na
 chhaltigkeitsmanagement@hnee.de</a> &nbsp\;</p>
LOCATION:online mit Anmeldung (mailto:nachhaltigkeitsmanagement@hnee.de)
END:VEVENT
END:VCALENDAR
