BEGIN:VCALENDAR
VERSION:2.0
PRODID:-//TYPO3/NONSGML Calendarize//EN
BEGIN:VEVENT
UID:calendarize-pandemics-and-wildlife-what-is-the-role-of-environmental-h
 istory-2026-05-19
DTSTAMP:20260424T114818Z
DTSTART:20260519T170000Z
DTEND:20260519T190000Z
SUMMARY:Pandemics and wildlife: what is the role of environmental history?
DESCRIPTION:Referentin ist Prof.in Dr. Denise Matias\, Professorin für Ec
 osystem-Based Transformation Management in UNESCO Biosphere Reserves. \nG
 astgeberin ist diesmal Landeskompetenzzentrum Forst (LFE) auf dem Waldcamp
 us.\n
X-ALT-DESC;FMTTYPE=text/html:<p>Referentin ist Prof.in Dr. Denise Matias\,
  Professorin für Ecosystem-Based Transformation Management in UNESCO Bios
 phere Reserves.&nbsp\;</p>\n<p>Gastgeberin ist diesmal Landeskompetenzzent
 rum Forst (LFE) auf dem Waldcampus.</p>\n
LOCATION:Waldcampus Landeskompetenzzentrum Forst (LFE)
END:VEVENT
END:VCALENDAR
