BEGIN:VCALENDAR
VERSION:2.0
PRODID:-//TYPO3/NONSGML Calendarize//EN
BEGIN:VEVENT
UID:calendarize-schreibwerkstatt-07-26-2026-07-06
DTSTAMP:20260420T151626Z
DTSTART:20260706T070000Z
DTEND:20260708T150000Z
SUMMARY:Schreibwerkstatt für Promovierende
DESCRIPTION:Ein paar Tage fernab vom gewohnten Arbeitsplatz\, um sich in R
 uhe und konzentriert dem eigenen Schreiben zu widmen — das ist die Idee 
 hinter der Schreibwerkstatt. Gemeinsam schaffen wir eine strukturierte Sch
 reibumgebung mit festen Schreibphasen und optionalen Mini-Workshops (z. B.
  „Wie komme ich schneller ins Schreiben?“\, „Wie strukturiere ich ei
 ne Einleitung?“\, „Wie bleibe ich über den Tag hinweg produktiv?“)\
 , die von der erfahrenen Schreibtrainerin Dr. Martina Michalikova geleitet
  werden. Kurze Yogaeinheiten unterstützen die aktive Erholung und helfen 
 dabei\, über den Tag hinweg motiviert und konzentriert am eigenen Text zu
  arbeiten.\nAuf Wunsch bietet die Schreibtrainerin außerdem individuelle 
 25-minütige Einzelgespräche an\, die auch gezieltes Feedback zu Ihrem Te
 xt beinhalten können.\nJetzt Anmelden!
X-ALT-DESC;FMTTYPE=text/html:<p><span class="text-dark-green">Ein paar Tag
 e fernab vom gewohnten Arbeitsplatz\, um sich in Ruhe und konzentriert dem
  eigenen Schreiben zu widmen — das ist die Idee hinter der Schreibwerkst
 att. Gemeinsam schaffen wir eine strukturierte Schreibumgebung mit festen 
 Schreibphasen und optionalen Mini-Workshops (z. B. „Wie komme ich schnel
 ler ins Schreiben?“\, „Wie strukturiere ich eine Einleitung?“\, „W
 ie bleibe ich über den Tag hinweg produktiv?“)\, die von der erfahrenen
  Schreibtrainerin Dr. Martina Michalikova geleitet werden. Kurze Yogaeinhe
 iten unterstützen die aktive Erholung und helfen dabei\, über den Tag hi
 nweg motiviert und konzentriert am eigenen Text zu arbeiten.</span></p>\n<
 p><span class="text-dark-green">Auf Wunsch bietet die Schreibtrainerin auß
 erdem individuelle 25-minütige Einzelgespräche an\, die auch gezieltes F
 eedback zu Ihrem Text beinhalten können.</span></p>\n<p><a class="externa
 l-link-new-window" href="https://eveeno.com/writingretreat-07-2026" target
 ="_blank">Jetzt Anmelden!</a></p>
LOCATION:Fachhochschule Potsdam
END:VEVENT
END:VCALENDAR
